BEGIN:VCALENDAR
VERSION:2.0
PRODID:-//Pine Tree - ECPv6.15.20//NONSGML v1.0//EN
CALSCALE:GREGORIAN
METHOD:PUBLISH
X-ORIGINAL-URL:https://shoppinetreemall.com
X-WR-CALDESC:Events for Pine Tree
REFRESH-INTERVAL;VALUE=DURATION:PT1H
X-Robots-Tag:noindex
X-PUBLISHED-TTL:PT1H
BEGIN:VTIMEZONE
TZID:America/Chicago
BEGIN:DAYLIGHT
TZOFFSETFROM:-0600
TZOFFSETTO:-0500
TZNAME:CDT
DTSTART:20170312T080000
END:DAYLIGHT
BEGIN:STANDARD
TZOFFSETFROM:-0500
TZOFFSETTO:-0600
TZNAME:CST
DTSTART:20171105T070000
END:STANDARD
BEGIN:DAYLIGHT
TZOFFSETFROM:-0600
TZOFFSETTO:-0500
TZNAME:CDT
DTSTART:20180311T080000
END:DAYLIGHT
BEGIN:STANDARD
TZOFFSETFROM:-0500
TZOFFSETTO:-0600
TZNAME:CST
DTSTART:20181104T070000
END:STANDARD
BEGIN:DAYLIGHT
TZOFFSETFROM:-0600
TZOFFSETTO:-0500
TZNAME:CDT
DTSTART:20190310T080000
END:DAYLIGHT
BEGIN:STANDARD
TZOFFSETFROM:-0500
TZOFFSETTO:-0600
TZNAME:CST
DTSTART:20191103T070000
END:STANDARD
END:VTIMEZONE
BEGIN:VEVENT
DTSTART;VALUE=DATE:20181117
DTEND;VALUE=DATE:20181119
DTSTAMP:20260424T025946
CREATED:20180503T171138Z
LAST-MODIFIED:20181019T212533Z
UID:1353-1542412800-1542585599@shoppinetreemall.com
SUMMARY:Craft and Vendor Show
DESCRIPTION:For more information\, please contact: \nDawn Krause\nWow-Solutions-4u\, LLC\nwww.wowsolutions4u.com\nwww.facebook.com/wowsolutions4u\n920.330.0291
URL:https://shoppinetreemall.com/event/craft-vendor-show-5/
LOCATION:Pine Tree Mall\, Space E11
GEO:51.5682484;0.0105343
X-APPLE-STRUCTURED-LOCATION;VALUE=URI;X-ADDRESS=Pine Tree Mall Space E11;X-APPLE-RADIUS=500;X-TITLE=Space E11:geo:0.0105343,51.5682484
END:VEVENT
END:VCALENDAR