BEGIN:VCALENDAR
VERSION:2.0
PRODID:-//Pine Tree - ECPv6.15.20//NONSGML v1.0//EN
CALSCALE:GREGORIAN
METHOD:PUBLISH
X-ORIGINAL-URL:https://shoppinetreemall.com
X-WR-CALDESC:Events for Pine Tree
REFRESH-INTERVAL;VALUE=DURATION:PT1H
X-Robots-Tag:noindex
X-PUBLISHED-TTL:PT1H
BEGIN:VTIMEZONE
TZID:America/Chicago
BEGIN:DAYLIGHT
TZOFFSETFROM:-0600
TZOFFSETTO:-0500
TZNAME:CDT
DTSTART:20180311T080000
END:DAYLIGHT
BEGIN:STANDARD
TZOFFSETFROM:-0500
TZOFFSETTO:-0600
TZNAME:CST
DTSTART:20181104T070000
END:STANDARD
BEGIN:DAYLIGHT
TZOFFSETFROM:-0600
TZOFFSETTO:-0500
TZNAME:CDT
DTSTART:20190310T080000
END:DAYLIGHT
BEGIN:STANDARD
TZOFFSETFROM:-0500
TZOFFSETTO:-0600
TZNAME:CST
DTSTART:20191103T070000
END:STANDARD
BEGIN:DAYLIGHT
TZOFFSETFROM:-0600
TZOFFSETTO:-0500
TZNAME:CDT
DTSTART:20200308T080000
END:DAYLIGHT
BEGIN:STANDARD
TZOFFSETFROM:-0500
TZOFFSETTO:-0600
TZNAME:CST
DTSTART:20201101T070000
END:STANDARD
END:VTIMEZONE
BEGIN:VEVENT
DTSTART;TZID=America/Chicago:20191123T100000
DTEND;TZID=America/Chicago:20191123T180000
DTSTAMP:20260419T180847
CREATED:20190829T162713Z
LAST-MODIFIED:20190829T164725Z
UID:1557-1574503200-1574532000@shoppinetreemall.com
SUMMARY:4th Annual Widows Weekend Craft Show at the Pine Tree Mall
DESCRIPTION:Please join us at our Fall Craft & Vendor Show. We will have over 50 vendors offering a wide variety of awesome services\, gifts and handmade crafts. \nRegister now to be a vendor!
URL:https://shoppinetreemall.com/event/4th-annual-widows-weekend-craft-show-at-the-pine-tree-mall/
LOCATION:2800 Roosevelt Road\, Marinette\, WI\, 54143\, United States
END:VEVENT
END:VCALENDAR