BEGIN:VCALENDAR
VERSION:2.0
PRODID:-//Pine Tree - ECPv6.15.20//NONSGML v1.0//EN
CALSCALE:GREGORIAN
METHOD:PUBLISH
X-ORIGINAL-URL:https://shoppinetreemall.com
X-WR-CALDESC:Events for Pine Tree
REFRESH-INTERVAL;VALUE=DURATION:PT1H
X-Robots-Tag:noindex
X-PUBLISHED-TTL:PT1H
BEGIN:VTIMEZONE
TZID:America/Chicago
BEGIN:DAYLIGHT
TZOFFSETFROM:-0600
TZOFFSETTO:-0500
TZNAME:CDT
DTSTART:20180311T080000
END:DAYLIGHT
BEGIN:STANDARD
TZOFFSETFROM:-0500
TZOFFSETTO:-0600
TZNAME:CST
DTSTART:20181104T070000
END:STANDARD
BEGIN:DAYLIGHT
TZOFFSETFROM:-0600
TZOFFSETTO:-0500
TZNAME:CDT
DTSTART:20190310T080000
END:DAYLIGHT
BEGIN:STANDARD
TZOFFSETFROM:-0500
TZOFFSETTO:-0600
TZNAME:CST
DTSTART:20191103T070000
END:STANDARD
BEGIN:DAYLIGHT
TZOFFSETFROM:-0600
TZOFFSETTO:-0500
TZNAME:CDT
DTSTART:20200308T080000
END:DAYLIGHT
BEGIN:STANDARD
TZOFFSETFROM:-0500
TZOFFSETTO:-0600
TZNAME:CST
DTSTART:20201101T070000
END:STANDARD
END:VTIMEZONE
BEGIN:VEVENT
DTSTART;TZID=America/Chicago:20191207T100000
DTEND;TZID=America/Chicago:20191207T180000
DTSTAMP:20260419T164336
CREATED:20190829T163604Z
LAST-MODIFIED:20190829T164747Z
UID:1565-1575712800-1575741600@shoppinetreemall.com
SUMMARY:Craft & Vendor Show at the Pine Tree Mall
DESCRIPTION:Please join us at our 4th annual Holiday Craft Show.\nWe will have over 50 vendors offering a wide variety of awesome services\, gifts and handmade crafts. \nRegister now to be a vendor!
URL:https://shoppinetreemall.com/event/craft-vendor-show-at-the-pine-tree-mall/
LOCATION:2800 Roosevelt Road\, Marinette\, WI\, 54143\, United States
END:VEVENT
END:VCALENDAR